BEGIN:VCALENDAR
VERSION:2.0
PRODID:-//BDAL - ECPv6.15.20//NONSGML v1.0//EN
CALSCALE:GREGORIAN
METHOD:PUBLISH
X-WR-CALNAME:BDAL
X-ORIGINAL-URL:https://aikido-deutschland.com
X-WR-CALDESC:Veranstaltungen für BDAL
REFRESH-INTERVAL;VALUE=DURATION:PT1H
X-Robots-Tag:noindex
X-PUBLISHED-TTL:PT1H
BEGIN:VTIMEZONE
TZID:Europe/Berlin
BEGIN:DAYLIGHT
TZOFFSETFROM:+0100
TZOFFSETTO:+0200
TZNAME:CEST
DTSTART:20240331T010000
END:DAYLIGHT
BEGIN:STANDARD
TZOFFSETFROM:+0200
TZOFFSETTO:+0100
TZNAME:CET
DTSTART:20241027T010000
END:STANDARD
BEGIN:DAYLIGHT
TZOFFSETFROM:+0100
TZOFFSETTO:+0200
TZNAME:CEST
DTSTART:20250330T010000
END:DAYLIGHT
BEGIN:STANDARD
TZOFFSETFROM:+0200
TZOFFSETTO:+0100
TZNAME:CET
DTSTART:20251026T010000
END:STANDARD
BEGIN:DAYLIGHT
TZOFFSETFROM:+0100
TZOFFSETTO:+0200
TZNAME:CEST
DTSTART:20260329T010000
END:DAYLIGHT
BEGIN:STANDARD
TZOFFSETFROM:+0200
TZOFFSETTO:+0100
TZNAME:CET
DTSTART:20261025T010000
END:STANDARD
END:VTIMEZONE
BEGIN:VEVENT
DTSTART;TZID=Europe/Berlin:20250413T090000
DTEND;TZID=Europe/Berlin:20250413T130000
DTSTAMP:20260421T185606
CREATED:20250305T182559Z
LAST-MODIFIED:20250305T182559Z
UID:10000043-1744534800-1744549200@aikido-deutschland.com
SUMMARY:Aikido-Lehrgang mit Burkhard Stiens\, 6. Dan
DESCRIPTION:
URL:https://aikido-deutschland.com/lehrgang/aikido-lehrgang-mit-burkhard-stiens-6-dan-2/
LOCATION:Turnhalle der Grundschule Am Bühlbusch\, Am Bühlbusch 6\, Verl\, 33415
ORGANIZER;CN="Turnverein von 1912 Verl e.V. | Abteilung Aikido":MAILTO:burkhard.stiens@t-online.de
END:VEVENT
BEGIN:VEVENT
DTSTART;TZID=Europe/Berlin:20250309T090000
DTEND;TZID=Europe/Berlin:20250309T130000
DTSTAMP:20260421T185606
CREATED:20250305T134323Z
LAST-MODIFIED:20250305T134323Z
UID:10000042-1741510800-1741525200@aikido-deutschland.com
SUMMARY:Aikido-Lehrgang mit Burkhard Stiens\, 6. Dan
DESCRIPTION:
URL:https://aikido-deutschland.com/lehrgang/aikido-lehrgang-mit-burkhard-stiens-6-dan/
LOCATION:Turnhalle der Grundschule Am Bühlbusch\, Am Bühlbusch 6\, Verl\, 33415
ORGANIZER;CN="Turnverein von 1912 Verl e.V. | Abteilung Aikido":MAILTO:burkhard.stiens@t-online.de
END:VEVENT
END:VCALENDAR