BEGIN:VCALENDAR
VERSION:2.0
PRODID:-//BDAL - ECPv6.15.20//NONSGML v1.0//EN
CALSCALE:GREGORIAN
METHOD:PUBLISH
X-WR-CALNAME:BDAL
X-ORIGINAL-URL:https://aikido-deutschland.com
X-WR-CALDESC:Veranstaltungen für BDAL
REFRESH-INTERVAL;VALUE=DURATION:PT1H
X-Robots-Tag:noindex
X-PUBLISHED-TTL:PT1H
BEGIN:VTIMEZONE
TZID:Europe/Berlin
BEGIN:DAYLIGHT
TZOFFSETFROM:+0100
TZOFFSETTO:+0200
TZNAME:CEST
DTSTART:20250330T010000
END:DAYLIGHT
BEGIN:STANDARD
TZOFFSETFROM:+0200
TZOFFSETTO:+0100
TZNAME:CET
DTSTART:20251026T010000
END:STANDARD
BEGIN:DAYLIGHT
TZOFFSETFROM:+0100
TZOFFSETTO:+0200
TZNAME:CEST
DTSTART:20260329T010000
END:DAYLIGHT
BEGIN:STANDARD
TZOFFSETFROM:+0200
TZOFFSETTO:+0100
TZNAME:CET
DTSTART:20261025T010000
END:STANDARD
BEGIN:DAYLIGHT
TZOFFSETFROM:+0100
TZOFFSETTO:+0200
TZNAME:CEST
DTSTART:20270328T010000
END:DAYLIGHT
BEGIN:STANDARD
TZOFFSETFROM:+0200
TZOFFSETTO:+0100
TZNAME:CET
DTSTART:20271031T010000
END:STANDARD
END:VTIMEZONE
BEGIN:VEVENT
DTSTART;VALUE=DATE:20260530
DTEND;VALUE=DATE:20260601
DTSTAMP:20260421T162144
CREATED:20251230T222819Z
LAST-MODIFIED:20260311T192209Z
UID:10000114-1780099200-1780271999@aikido-deutschland.com
SUMMARY:Aikido-Lehrgang mit Jean-François Riondet (8. Dan) aus Frankreich
DESCRIPTION:
URL:https://aikido-deutschland.com/lehrgang/30-jahre-aikido-dojo-shoshin-sommer-lehrgang/
LOCATION:Sportzentrum Nordost des Post SV Nürnberg\, Neumeyerstraße 80\, Nürnberg\, 90411
ORGANIZER;CN="Aikido-Dojo ShoShin N%C3%BCrnberg e.V.":MAILTO:aikido@shoshin.de
END:VEVENT
END:VCALENDAR