BEGIN:VCALENDAR
VERSION:2.0
PRODID:-//BDAL - ECPv6.15.20//NONSGML v1.0//EN
CALSCALE:GREGORIAN
METHOD:PUBLISH
X-WR-CALNAME:BDAL
X-ORIGINAL-URL:https://aikido-deutschland.com
X-WR-CALDESC:Veranstaltungen für BDAL
REFRESH-INTERVAL;VALUE=DURATION:PT1H
X-Robots-Tag:noindex
X-PUBLISHED-TTL:PT1H
BEGIN:VTIMEZONE
TZID:Europe/Berlin
BEGIN:DAYLIGHT
TZOFFSETFROM:+0100
TZOFFSETTO:+0200
TZNAME:CEST
DTSTART:20250330T010000
END:DAYLIGHT
BEGIN:STANDARD
TZOFFSETFROM:+0200
TZOFFSETTO:+0100
TZNAME:CET
DTSTART:20251026T010000
END:STANDARD
BEGIN:DAYLIGHT
TZOFFSETFROM:+0100
TZOFFSETTO:+0200
TZNAME:CEST
DTSTART:20260329T010000
END:DAYLIGHT
BEGIN:STANDARD
TZOFFSETFROM:+0200
TZOFFSETTO:+0100
TZNAME:CET
DTSTART:20261025T010000
END:STANDARD
BEGIN:DAYLIGHT
TZOFFSETFROM:+0100
TZOFFSETTO:+0200
TZNAME:CEST
DTSTART:20270328T010000
END:DAYLIGHT
BEGIN:STANDARD
TZOFFSETFROM:+0200
TZOFFSETTO:+0100
TZNAME:CET
DTSTART:20271031T010000
END:STANDARD
END:VTIMEZONE
BEGIN:VEVENT
DTSTART;VALUE=DATE:20260724
DTEND;VALUE=DATE:20260727
DTSTAMP:20260421T215825
CREATED:20251215T160355Z
LAST-MODIFIED:20251217T220546Z
UID:10000107-1784851200-1785110399@aikido-deutschland.com
SUMMARY:Aikido-Lehrgang mit Ulrich Wallauer-Faderl\, 7. Dan
DESCRIPTION:
URL:https://aikido-deutschland.com/lehrgang/aikido-lehrgang-mit-ulrich-wallauer-faderl-7-dan-2/
LOCATION:Mulfingen-Buchenbach\, Mehrzweckhalle\, Herrenwiesenweg 22\, 74673 Mulfingen-Buchenbach
ORGANIZER;CN="Aikido-Dojo Alte Schule Buchenbach e.V.":MAILTO:aikido@ist-einmalig.de
END:VEVENT
END:VCALENDAR