BEGIN:VCALENDAR
VERSION:2.0
PRODID:-//BDAL - ECPv6.15.20//NONSGML v1.0//EN
CALSCALE:GREGORIAN
METHOD:PUBLISH
X-ORIGINAL-URL:https://aikido-deutschland.com
X-WR-CALDESC:Veranstaltungen für BDAL
REFRESH-INTERVAL;VALUE=DURATION:PT1H
X-Robots-Tag:noindex
X-PUBLISHED-TTL:PT1H
BEGIN:VTIMEZONE
TZID:Europe/Berlin
BEGIN:DAYLIGHT
TZOFFSETFROM:+0100
TZOFFSETTO:+0200
TZNAME:CEST
DTSTART:20250330T010000
END:DAYLIGHT
BEGIN:STANDARD
TZOFFSETFROM:+0200
TZOFFSETTO:+0100
TZNAME:CET
DTSTART:20251026T010000
END:STANDARD
BEGIN:DAYLIGHT
TZOFFSETFROM:+0100
TZOFFSETTO:+0200
TZNAME:CEST
DTSTART:20260329T010000
END:DAYLIGHT
BEGIN:STANDARD
TZOFFSETFROM:+0200
TZOFFSETTO:+0100
TZNAME:CET
DTSTART:20261025T010000
END:STANDARD
BEGIN:DAYLIGHT
TZOFFSETFROM:+0100
TZOFFSETTO:+0200
TZNAME:CEST
DTSTART:20270328T010000
END:DAYLIGHT
BEGIN:STANDARD
TZOFFSETFROM:+0200
TZOFFSETTO:+0100
TZNAME:CET
DTSTART:20271031T010000
END:STANDARD
END:VTIMEZONE
BEGIN:VEVENT
DTSTART;VALUE=DATE:20260612
DTEND;VALUE=DATE:20260617
DTSTAMP:20260421T174710
CREATED:20251221T121410Z
LAST-MODIFIED:20251221T121900Z
UID:10000108-1781222400-1781654399@aikido-deutschland.com
SUMMARY:Aikido/Schwert- und Stock-Sommerlehrgang mit Jochen Knau\, 6. Dan
DESCRIPTION:… in Krohnhorst/Uckermarck
URL:https://aikido-deutschland.com/lehrgang/aikido-schwert-und-stock-sommerlehrgang-mit-jochen-knau-6-dan/
LOCATION:LandDojo Uckermark\, Krohnhorst 57\, Gerswalde\, 17268
ORGANIZER;CN="Zentrum f%C3%BCr Harmonische Bewegung ZfHB":MAILTO:jknau@zfhb.de
END:VEVENT
BEGIN:VEVENT
DTSTART;VALUE=DATE:20260710
DTEND;VALUE=DATE:20260712
DTSTAMP:20260421T174710
CREATED:20251221T122703Z
LAST-MODIFIED:20251221T122703Z
UID:10000110-1783641600-1783814399@aikido-deutschland.com
SUMMARY:Aikido/Schwert- und Stock-Sommerlehrgang mit Jochen Knau\, 6. Dan
DESCRIPTION:… in Krohnhorst/Uckermarck
URL:https://aikido-deutschland.com/lehrgang/aikido-schwert-und-stock-sommerlehrgang-mit-jochen-knau-6-dan-3/
LOCATION:LandDojo Uckermark\, Krohnhorst 57\, Gerswalde\, 17268
ORGANIZER;CN="Zentrum f%C3%BCr Harmonische Bewegung ZfHB":MAILTO:jknau@zfhb.de
END:VEVENT
BEGIN:VEVENT
DTSTART;VALUE=DATE:20260918
DTEND;VALUE=DATE:20260923
DTSTAMP:20260421T174710
CREATED:20251221T122223Z
LAST-MODIFIED:20251221T122231Z
UID:10000109-1789689600-1790121599@aikido-deutschland.com
SUMMARY:Aikido/Schwert- und Stock-Sommerlehrgang mit Jochen Knau\, 6. Dan
DESCRIPTION:… in Krohnhorst/Uckermarck
URL:https://aikido-deutschland.com/lehrgang/aikido-schwert-und-stock-sommerlehrgang-mit-jochen-knau-6-dan-2/
LOCATION:LandDojo Uckermark\, Krohnhorst 57\, Gerswalde\, 17268
ORGANIZER;CN="Zentrum f%C3%BCr Harmonische Bewegung ZfHB":MAILTO:jknau@zfhb.de
END:VEVENT
BEGIN:VEVENT
DTSTART;VALUE=DATE:20261009
DTEND;VALUE=DATE:20261011
DTSTAMP:20260421T174710
CREATED:20251221T122945Z
LAST-MODIFIED:20251221T122954Z
UID:10000111-1791504000-1791676799@aikido-deutschland.com
SUMMARY:Aikido/Schwert- und Stock-Sommerlehrgang mit Jochen Knau\, 6. Dan
DESCRIPTION:… in Krohnhorst/Uckermarck
URL:https://aikido-deutschland.com/lehrgang/aikido-schwert-und-stock-sommerlehrgang-mit-jochen-knau-6-dan-4/
LOCATION:LandDojo Uckermark\, Krohnhorst 57\, Gerswalde\, 17268
ORGANIZER;CN="Zentrum f%C3%BCr Harmonische Bewegung ZfHB":MAILTO:jknau@zfhb.de
END:VEVENT
END:VCALENDAR