BEGIN:VCALENDAR
VERSION:2.0
PRODID:-//BDAL - ECPv6.15.20//NONSGML v1.0//EN
CALSCALE:GREGORIAN
METHOD:PUBLISH
X-ORIGINAL-URL:https://aikido-deutschland.com
X-WR-CALDESC:Veranstaltungen für BDAL
REFRESH-INTERVAL;VALUE=DURATION:PT1H
X-Robots-Tag:noindex
X-PUBLISHED-TTL:PT1H
BEGIN:VTIMEZONE
TZID:Europe/Berlin
BEGIN:DAYLIGHT
TZOFFSETFROM:+0100
TZOFFSETTO:+0200
TZNAME:CEST
DTSTART:20240331T010000
END:DAYLIGHT
BEGIN:STANDARD
TZOFFSETFROM:+0200
TZOFFSETTO:+0100
TZNAME:CET
DTSTART:20241027T010000
END:STANDARD
BEGIN:DAYLIGHT
TZOFFSETFROM:+0100
TZOFFSETTO:+0200
TZNAME:CEST
DTSTART:20250330T010000
END:DAYLIGHT
BEGIN:STANDARD
TZOFFSETFROM:+0200
TZOFFSETTO:+0100
TZNAME:CET
DTSTART:20251026T010000
END:STANDARD
BEGIN:DAYLIGHT
TZOFFSETFROM:+0100
TZOFFSETTO:+0200
TZNAME:CEST
DTSTART:20260329T010000
END:DAYLIGHT
BEGIN:STANDARD
TZOFFSETFROM:+0200
TZOFFSETTO:+0100
TZNAME:CET
DTSTART:20261025T010000
END:STANDARD
BEGIN:DAYLIGHT
TZOFFSETFROM:+0100
TZOFFSETTO:+0200
TZNAME:CEST
DTSTART:20270328T010000
END:DAYLIGHT
BEGIN:STANDARD
TZOFFSETFROM:+0200
TZOFFSETTO:+0100
TZNAME:CET
DTSTART:20271031T010000
END:STANDARD
END:VTIMEZONE
BEGIN:VEVENT
DTSTART;TZID=Europe/Berlin:20260411T100000
DTEND;TZID=Europe/Berlin:20260411T163000
DTSTAMP:20260421T174801
CREATED:20260116T221151Z
LAST-MODIFIED:20260116T221330Z
UID:10000130-1775901600-1775925000@aikido-deutschland.com
SUMMARY:Aikido-Lehrgang mit Rüdiger Keller\, 8. Dan
DESCRIPTION:
URL:https://aikido-deutschland.com/lehrgang/aikido-lehrgang-mit-ruediger-keller-8-dan/
LOCATION:Kensho-Dojo\, Goseburgstraße 41\, Lüneburg\, 21339
END:VEVENT
BEGIN:VEVENT
DTSTART;TZID=Europe/Berlin:20260307T103000
DTEND;TZID=Europe/Berlin:20260307T123000
DTSTAMP:20260421T174801
CREATED:20260201T124852Z
LAST-MODIFIED:20260201T124903Z
UID:10000139-1772879400-1772886600@aikido-deutschland.com
SUMMARY:Aikido Samstag-Spezial: Randori – Das Chaos ergreifen
DESCRIPTION:mit Friedrich und Michael Vortmüller
URL:https://aikido-deutschland.com/lehrgang/aikido-samstag-spezial-randori-das-chaos-ergreifen/
LOCATION:Kensho-Dojo\, Goseburgstraße 41\, Lüneburg\, 21339
END:VEVENT
BEGIN:VEVENT
DTSTART;TZID=Europe/Berlin:20260103T103000
DTEND;TZID=Europe/Berlin:20260103T123000
DTSTAMP:20260421T174801
CREATED:20251227T122623Z
LAST-MODIFIED:20251227T122623Z
UID:10000112-1767436200-1767443400@aikido-deutschland.com
SUMMARY:Aikido Samstag-Spezial: Fallschule und Sankyo
DESCRIPTION:mit Friedrich und Michael Vortmüller
URL:https://aikido-deutschland.com/lehrgang/aikido-samstag-spezial-fallschule-und-sankyo/
LOCATION:Kensho-Dojo\, Goseburgstraße 41\, Lüneburg\, 21339
END:VEVENT
BEGIN:VEVENT
DTSTART;TZID=Europe/Berlin:20251101T103000
DTEND;TZID=Europe/Berlin:20251101T123000
DTSTAMP:20260421T174801
CREATED:20250915T132542Z
LAST-MODIFIED:20250915T132652Z
UID:10000097-1761993000-1762000200@aikido-deutschland.com
SUMMARY:Samstags Spezial – Aikido und Spiele
DESCRIPTION:mit Michael Vortmüller
URL:https://aikido-deutschland.com/lehrgang/samstags-special-aikido-und-spiele-mit/
LOCATION:Kensho-Dojo\, Goseburgstraße 41\, Lüneburg\, 21339
END:VEVENT
BEGIN:VEVENT
DTSTART;VALUE=DATE:20251010
DTEND;VALUE=DATE:20251013
DTSTAMP:20260421T174801
CREATED:20250915T131714Z
LAST-MODIFIED:20250915T131714Z
UID:10000096-1760054400-1760313599@aikido-deutschland.com
SUMMARY:Aikido Herbstlehrgang mit Pascal Olivier (Paris)
DESCRIPTION:
URL:https://aikido-deutschland.com/lehrgang/aikido-herbstlehrgang-mit-pascal-olivier-paris/
LOCATION:Kensho-Dojo\, Goseburgstraße 41\, Lüneburg\, 21339
END:VEVENT
END:VCALENDAR