BEGIN:VCALENDAR
VERSION:2.0
PRODID:-//BDAL - ECPv6.15.20//NONSGML v1.0//EN
CALSCALE:GREGORIAN
METHOD:PUBLISH
X-ORIGINAL-URL:https://aikido-deutschland.com
X-WR-CALDESC:Veranstaltungen für BDAL
REFRESH-INTERVAL;VALUE=DURATION:PT1H
X-Robots-Tag:noindex
X-PUBLISHED-TTL:PT1H
BEGIN:VTIMEZONE
TZID:Europe/Berlin
BEGIN:DAYLIGHT
TZOFFSETFROM:+0100
TZOFFSETTO:+0200
TZNAME:CEST
DTSTART:20250330T010000
END:DAYLIGHT
BEGIN:STANDARD
TZOFFSETFROM:+0200
TZOFFSETTO:+0100
TZNAME:CET
DTSTART:20251026T010000
END:STANDARD
BEGIN:DAYLIGHT
TZOFFSETFROM:+0100
TZOFFSETTO:+0200
TZNAME:CEST
DTSTART:20260329T010000
END:DAYLIGHT
BEGIN:STANDARD
TZOFFSETFROM:+0200
TZOFFSETTO:+0100
TZNAME:CET
DTSTART:20261025T010000
END:STANDARD
BEGIN:DAYLIGHT
TZOFFSETFROM:+0100
TZOFFSETTO:+0200
TZNAME:CEST
DTSTART:20270328T010000
END:DAYLIGHT
BEGIN:STANDARD
TZOFFSETFROM:+0200
TZOFFSETTO:+0100
TZNAME:CET
DTSTART:20271031T010000
END:STANDARD
BEGIN:DAYLIGHT
TZOFFSETFROM:+0100
TZOFFSETTO:+0200
TZNAME:CEST
DTSTART:20280326T010000
END:DAYLIGHT
BEGIN:STANDARD
TZOFFSETFROM:+0200
TZOFFSETTO:+0100
TZNAME:CET
DTSTART:20281029T010000
END:STANDARD
END:VTIMEZONE
BEGIN:VEVENT
DTSTART;VALUE=DATE:20260720
DTEND;VALUE=DATE:20260727
DTSTAMP:20260421T202812
CREATED:20250125T173941Z
LAST-MODIFIED:20260124T192823Z
UID:10000022-1784512800-1785031199@aikido-deutschland.com
SUMMARY:Shochugeiko mit Dirk Kropp\, 8. Dan
DESCRIPTION:
URL:https://aikido-deutschland.com/lehrgang/shochugeiko-mit-dirk-kropp-8-dan-2/
LOCATION:Aikido üben | Dojo Dirk Kropp\, Rochusstraße 216\, Köln\, 50827
ORGANIZER;CN="Dirk Kropp %E2%80%93 Aikido %C3%BCben":MAILTO:dirkkropp@aikido-ueben.de
END:VEVENT
BEGIN:VEVENT
DTSTART;TZID=Europe/Berlin:20270125T055000
DTEND;TZID=Europe/Berlin:20270130T070000
DTSTAMP:20260421T202812
CREATED:20260124T185107Z
LAST-MODIFIED:20260124T191408Z
UID:10000137-1800856200-1801292400@aikido-deutschland.com
SUMMARY:Kangeiko mit Dirk Kropp\, 8. Dan
DESCRIPTION:
URL:https://aikido-deutschland.com/lehrgang/kangeiko/
LOCATION:Aikido üben | Dojo Dirk Kropp\, Rochusstraße 216\, Köln\, 50827
ORGANIZER;CN="Dirk Kropp %E2%80%93 Aikido %C3%BCben":MAILTO:dirkkropp@aikido-ueben.de
END:VEVENT
BEGIN:VEVENT
DTSTART;TZID=Europe/Berlin:20270726T055000
DTEND;TZID=Europe/Berlin:20270731T070000
DTSTAMP:20260421T202812
CREATED:20260124T190112Z
LAST-MODIFIED:20260124T191342Z
UID:10000138-1816581000-1817017200@aikido-deutschland.com
SUMMARY:Shochugeiko mit Dirk Kropp\, 8. Dan
DESCRIPTION:
URL:https://aikido-deutschland.com/lehrgang/shochugeiko-mit-dirk-kropp-8-dan-3/
LOCATION:Aikido üben | Dojo Dirk Kropp\, Rochusstraße 216\, Köln\, 50827
ORGANIZER;CN="Dirk Kropp %E2%80%93 Aikido %C3%BCben":MAILTO:dirkkropp@aikido-ueben.de
END:VEVENT
END:VCALENDAR