BEGIN:VCALENDAR
VERSION:2.0
PRODID:-//BDAL - ECPv6.15.20//NONSGML v1.0//EN
CALSCALE:GREGORIAN
METHOD:PUBLISH
X-WR-CALNAME:BDAL
X-ORIGINAL-URL:https://aikido-deutschland.com
X-WR-CALDESC:Veranstaltungen für BDAL
REFRESH-INTERVAL;VALUE=DURATION:PT1H
X-Robots-Tag:noindex
X-PUBLISHED-TTL:PT1H
BEGIN:VTIMEZONE
TZID:Europe/Berlin
BEGIN:DAYLIGHT
TZOFFSETFROM:+0100
TZOFFSETTO:+0200
TZNAME:CEST
DTSTART:20240331T010000
END:DAYLIGHT
BEGIN:STANDARD
TZOFFSETFROM:+0200
TZOFFSETTO:+0100
TZNAME:CET
DTSTART:20241027T010000
END:STANDARD
BEGIN:DAYLIGHT
TZOFFSETFROM:+0100
TZOFFSETTO:+0200
TZNAME:CEST
DTSTART:20250330T010000
END:DAYLIGHT
BEGIN:STANDARD
TZOFFSETFROM:+0200
TZOFFSETTO:+0100
TZNAME:CET
DTSTART:20251026T010000
END:STANDARD
BEGIN:DAYLIGHT
TZOFFSETFROM:+0100
TZOFFSETTO:+0200
TZNAME:CEST
DTSTART:20260329T010000
END:DAYLIGHT
BEGIN:STANDARD
TZOFFSETFROM:+0200
TZOFFSETTO:+0100
TZNAME:CET
DTSTART:20261025T010000
END:STANDARD
END:VTIMEZONE
BEGIN:VEVENT
DTSTART;VALUE=DATE:20251227
DTEND;VALUE=DATE:20251229
DTSTAMP:20260421T234612
CREATED:20250210T231654Z
LAST-MODIFIED:20250210T231727Z
UID:10000031-1766793600-1766966399@aikido-deutschland.com
SUMMARY:Etsunen Geiko mit Rüdiger Keller\, 8. Dan – Lehrgang zum Jahresausklang
DESCRIPTION:
URL:https://aikido-deutschland.com/lehrgang/etsunen-geiko-mit-ruediger-keller-8-dan-lehrgang-zum-jahresausklang/
LOCATION:Aikido-Institut Bremen\, Westerstraße 68\, Bremen\, 28199\, Germany
ORGANIZER;CN="Aikido-Institut Bremen e.V.":MAILTO:info@aikido-bremen.de
END:VEVENT
BEGIN:VEVENT
DTSTART;TZID=Europe/Berlin:20250927T110000
DTEND;TZID=Europe/Berlin:20250927T183000
DTSTAMP:20260421T234612
CREATED:20250709T203552Z
LAST-MODIFIED:20250709T204533Z
UID:10000082-1758970800-1758997800@aikido-deutschland.com
SUMMARY:Aikido-Herbstlehrgang mit Rüdiger Keller\, 8. Dan
DESCRIPTION:
URL:https://aikido-deutschland.com/lehrgang/aikido-herbstlehrgang-mit-ruediger-keller-8-dan/
LOCATION:Aikido-Institut Bremen\, Westerstraße 68\, Bremen\, 28199\, Germany
ORGANIZER;CN="Aikido-Institut Bremen e.V.":MAILTO:info@aikido-bremen.de
END:VEVENT
BEGIN:VEVENT
DTSTART;TZID=Europe/Berlin:20250503T110000
DTEND;TZID=Europe/Berlin:20250503T190000
DTSTAMP:20260421T234612
CREATED:20250210T230820Z
LAST-MODIFIED:20250316T225936Z
UID:10000030-1746270000-1746298800@aikido-deutschland.com
SUMMARY:Aikido-Frühjahrslehrgang mit Rüdiger Keller\, 8. Dan
DESCRIPTION:
URL:https://aikido-deutschland.com/lehrgang/aikido-fruehjahrslehrgang/
LOCATION:Aikido-Institut Bremen\, Westerstraße 68\, Bremen\, 28199\, Germany
ORGANIZER;CN="Aikido-Institut Bremen e.V.":MAILTO:info@aikido-bremen.de
END:VEVENT
END:VCALENDAR