BEGIN:VCALENDAR
VERSION:2.0
PRODID:-//BDAL - ECPv6.15.20//NONSGML v1.0//EN
CALSCALE:GREGORIAN
METHOD:PUBLISH
X-WR-CALNAME:BDAL
X-ORIGINAL-URL:https://aikido-deutschland.com
X-WR-CALDESC:Veranstaltungen für BDAL
REFRESH-INTERVAL;VALUE=DURATION:PT1H
X-Robots-Tag:noindex
X-PUBLISHED-TTL:PT1H
BEGIN:VTIMEZONE
TZID:Europe/Berlin
BEGIN:DAYLIGHT
TZOFFSETFROM:+0100
TZOFFSETTO:+0200
TZNAME:CEST
DTSTART:20240331T010000
END:DAYLIGHT
BEGIN:STANDARD
TZOFFSETFROM:+0200
TZOFFSETTO:+0100
TZNAME:CET
DTSTART:20241027T010000
END:STANDARD
BEGIN:DAYLIGHT
TZOFFSETFROM:+0100
TZOFFSETTO:+0200
TZNAME:CEST
DTSTART:20250330T010000
END:DAYLIGHT
BEGIN:STANDARD
TZOFFSETFROM:+0200
TZOFFSETTO:+0100
TZNAME:CET
DTSTART:20251026T010000
END:STANDARD
BEGIN:DAYLIGHT
TZOFFSETFROM:+0100
TZOFFSETTO:+0200
TZNAME:CEST
DTSTART:20260329T010000
END:DAYLIGHT
BEGIN:STANDARD
TZOFFSETFROM:+0200
TZOFFSETTO:+0100
TZNAME:CET
DTSTART:20261025T010000
END:STANDARD
BEGIN:DAYLIGHT
TZOFFSETFROM:+0100
TZOFFSETTO:+0200
TZNAME:CEST
DTSTART:20270328T010000
END:DAYLIGHT
BEGIN:STANDARD
TZOFFSETFROM:+0200
TZOFFSETTO:+0100
TZNAME:CET
DTSTART:20271031T010000
END:STANDARD
END:VTIMEZONE
BEGIN:VEVENT
DTSTART;TZID=Europe/Berlin:20260314T103000
DTEND;TZID=Europe/Berlin:20260314T180000
DTSTAMP:20260421T222635
CREATED:20260117T125601Z
LAST-MODIFIED:20260117T125609Z
UID:10000132-1773484200-1773511200@aikido-deutschland.com
SUMMARY:Aikido-Lehrgang für Anfänger:innen und Fortgeschrittene
DESCRIPTION:mit Dr. Brigitte Brück (6. Dan) und Silke Pradler (1. Dan)
URL:https://aikido-deutschland.com/lehrgang/aikido-lehrgang-fuer-anfaengerinnen-und-fortgeschrittene-2/
LOCATION:Aikido-Dojo Wildeshausen\, Pestruper Straße 11e (Ecke Kaiserstraße)\, Wildeshausen\, 27793
ORGANIZER;CN="Aikido-Dojo Wildeshausen":MAILTO:br.brueck@gmx.de
END:VEVENT
BEGIN:VEVENT
DTSTART;TZID=Europe/Berlin:20250823T103000
DTEND;TZID=Europe/Berlin:20250823T180000
DTSTAMP:20260421T222635
CREATED:20250215T171249Z
LAST-MODIFIED:20250307T231736Z
UID:10000036-1755945000-1755972000@aikido-deutschland.com
SUMMARY:Aikido-Lehrgang für Anfänger:innen und Fortgeschrittene mit Dr. Brigitte Brück (6. Dan) und  Christoph Schwarzer (5. Dan)
DESCRIPTION:
URL:https://aikido-deutschland.com/lehrgang/aikido-lehrgang-fuer-anfaengerinnen-und-fortgeschrittene-mit-dr-brigitte-brueck-6-dan-und-christoph-schwarzer-5-dan/
LOCATION:Aikido-Dojo Wildeshausen\, Pestruper Straße 11e (Ecke Kaiserstraße)\, Wildeshausen\, 27793
ORGANIZER;CN="Aikido-Dojo Wildeshausen":MAILTO:br.brueck@gmx.de
END:VEVENT
BEGIN:VEVENT
DTSTART;TZID=Europe/Berlin:20250517T103000
DTEND;TZID=Europe/Berlin:20250517T180000
DTSTAMP:20260421T222635
CREATED:20250215T163343Z
LAST-MODIFIED:20250307T230713Z
UID:10000032-1747477800-1747504800@aikido-deutschland.com
SUMMARY:Aikido-Lehrgang für Anfänger:innen und Fortgeschrittene mit Dr. Brigitte Brück (6. Dan) und  Silke Pradler (1. Dan)
DESCRIPTION:
URL:https://aikido-deutschland.com/lehrgang/aikido-lehrgang-fuer-anfaengerinnen-und-fortgeschrittene/
LOCATION:Aikido-Dojo Wildeshausen\, Pestruper Straße 11e (Ecke Kaiserstraße)\, Wildeshausen\, 27793
ORGANIZER;CN="Aikido-Dojo Wildeshausen":MAILTO:br.brueck@gmx.de
END:VEVENT
END:VCALENDAR