BEGIN:VCALENDAR
VERSION:2.0
PRODID:-//BDAL - ECPv6.15.20//NONSGML v1.0//EN
CALSCALE:GREGORIAN
METHOD:PUBLISH
X-ORIGINAL-URL:https://aikido-deutschland.com
X-WR-CALDESC:Veranstaltungen für BDAL
REFRESH-INTERVAL;VALUE=DURATION:PT1H
X-Robots-Tag:noindex
X-PUBLISHED-TTL:PT1H
BEGIN:VTIMEZONE
TZID:Europe/Berlin
BEGIN:DAYLIGHT
TZOFFSETFROM:+0100
TZOFFSETTO:+0200
TZNAME:CEST
DTSTART:20230326T010000
END:DAYLIGHT
BEGIN:STANDARD
TZOFFSETFROM:+0200
TZOFFSETTO:+0100
TZNAME:CET
DTSTART:20231029T010000
END:STANDARD
BEGIN:DAYLIGHT
TZOFFSETFROM:+0100
TZOFFSETTO:+0200
TZNAME:CEST
DTSTART:20240331T010000
END:DAYLIGHT
BEGIN:STANDARD
TZOFFSETFROM:+0200
TZOFFSETTO:+0100
TZNAME:CET
DTSTART:20241027T010000
END:STANDARD
BEGIN:DAYLIGHT
TZOFFSETFROM:+0100
TZOFFSETTO:+0200
TZNAME:CEST
DTSTART:20250330T010000
END:DAYLIGHT
BEGIN:STANDARD
TZOFFSETFROM:+0200
TZOFFSETTO:+0100
TZNAME:CET
DTSTART:20251026T010000
END:STANDARD
BEGIN:DAYLIGHT
TZOFFSETFROM:+0100
TZOFFSETTO:+0200
TZNAME:CEST
DTSTART:20260329T010000
END:DAYLIGHT
BEGIN:STANDARD
TZOFFSETFROM:+0200
TZOFFSETTO:+0100
TZNAME:CET
DTSTART:20261025T010000
END:STANDARD
END:VTIMEZONE
BEGIN:VEVENT
DTSTART;VALUE=DATE:20251003
DTEND;VALUE=DATE:20251006
DTSTAMP:20260421T234154
CREATED:20250709T204850Z
LAST-MODIFIED:20250709T205520Z
UID:10000083-1759449600-1759708799@aikido-deutschland.com
SUMMARY:Aikido üben – wozu und wie? Didaktik und Methodik des Lehrens
DESCRIPTION:Fortbildungsseminar für Aikido-Lehrer:innen mit Winfried Wagner\, 8. Dan
URL:https://aikido-deutschland.com/lehrgang/aikido-ueben-wozu-und-wie-didaktik-und-methodik-des-lehrens-fortbildungsseminar-fuer-aikido-lehrerinnen/
LOCATION:Aiki-Institut Schweinfurt\, Nußbergstraße 35\, Schweinfurt\, Bayern\, 97422\, Germany
ORGANIZER;CN="Aiki-Institut Winfried Wagner":MAILTO:winfried.wagner@existenzialpsychologie-sw.de
END:VEVENT
BEGIN:VEVENT
DTSTART;TZID=Europe/Berlin:20250426T100000
DTEND;TZID=Europe/Berlin:20250426T153000
DTSTAMP:20260421T234154
CREATED:20250324T231955Z
LAST-MODIFIED:20250324T232132Z
UID:10000063-1745661600-1745681400@aikido-deutschland.com
SUMMARY:Aiki-Ken – Schwertübungstag mit Winfried Wagner\, 8. Dan
DESCRIPTION:
URL:https://aikido-deutschland.com/lehrgang/aiki-ken-schwertuebungstag-mit-winfried-wagner-8-dan/
LOCATION:Aiki-Institut Schweinfurt\, Nußbergstraße 35\, Schweinfurt\, Bayern\, 97422\, Germany
ORGANIZER;CN="Aiki-Institut Winfried Wagner":MAILTO:winfried.wagner@existenzialpsychologie-sw.de
END:VEVENT
BEGIN:VEVENT
DTSTART;TZID=Europe/Berlin:20250215T110000
DTEND;TZID=Europe/Berlin:20250215T163000
DTSTAMP:20260421T234154
CREATED:20250108T220727Z
LAST-MODIFIED:20250309T214507Z
UID:10000018-1739617200-1739637000@aikido-deutschland.com
SUMMARY:Schwertübungstag mit Winfried Wagner\, 8. Dan
DESCRIPTION:
URL:https://aikido-deutschland.com/lehrgang/schwertuebungstag-mit-winfried-wagner/
LOCATION:Aiki-Institut Schweinfurt\, Nußbergstraße 35\, Schweinfurt\, Bayern\, 97422\, Germany
ORGANIZER;CN="Aiki-Institut Winfried Wagner":MAILTO:winfried.wagner@existenzialpsychologie-sw.de
END:VEVENT
BEGIN:VEVENT
DTSTART;VALUE=DATE:20241026
DTEND;VALUE=DATE:20241028
DTSTAMP:20260421T234154
CREATED:20241103T201454Z
LAST-MODIFIED:20241103T201503Z
UID:10000013-1729908000-1729994399@aikido-deutschland.com
SUMMARY:Schwertlehrgang mit Winfried Wagner\, 8. Dan
DESCRIPTION:
URL:https://aikido-deutschland.com/lehrgang/schwertlehrgang-mit-winfried-wagner-8-dan/
LOCATION:Aiki-Institut Schweinfurt\, Nußbergstraße 35\, Schweinfurt\, Bayern\, 97422\, Germany
ORGANIZER;CN="Aiki-Institut Schweinfurt":MAILTO:winfried.wagner@existenzialpsychologie-sw.de
END:VEVENT
END:VCALENDAR