BEGIN:VCALENDAR
VERSION:2.0
PRODID:-//BDAL - ECPv6.15.20//NONSGML v1.0//EN
CALSCALE:GREGORIAN
METHOD:PUBLISH
X-WR-CALNAME:BDAL
X-ORIGINAL-URL:https://aikido-deutschland.com
X-WR-CALDESC:Veranstaltungen für BDAL
REFRESH-INTERVAL;VALUE=DURATION:PT1H
X-Robots-Tag:noindex
X-PUBLISHED-TTL:PT1H
BEGIN:VTIMEZONE
TZID:Europe/Berlin
BEGIN:DAYLIGHT
TZOFFSETFROM:+0100
TZOFFSETTO:+0200
TZNAME:CEST
DTSTART:20240331T010000
END:DAYLIGHT
BEGIN:STANDARD
TZOFFSETFROM:+0200
TZOFFSETTO:+0100
TZNAME:CET
DTSTART:20241027T010000
END:STANDARD
BEGIN:DAYLIGHT
TZOFFSETFROM:+0100
TZOFFSETTO:+0200
TZNAME:CEST
DTSTART:20250330T010000
END:DAYLIGHT
BEGIN:STANDARD
TZOFFSETFROM:+0200
TZOFFSETTO:+0100
TZNAME:CET
DTSTART:20251026T010000
END:STANDARD
BEGIN:DAYLIGHT
TZOFFSETFROM:+0100
TZOFFSETTO:+0200
TZNAME:CEST
DTSTART:20260329T010000
END:DAYLIGHT
BEGIN:STANDARD
TZOFFSETFROM:+0200
TZOFFSETTO:+0100
TZNAME:CET
DTSTART:20261025T010000
END:STANDARD
END:VTIMEZONE
BEGIN:VEVENT
DTSTART;TZID=Europe/Berlin:20251115T103000
DTEND;TZID=Europe/Berlin:20251115T173000
DTSTAMP:20260422T012023
CREATED:20251015T201323Z
LAST-MODIFIED:20251015T201323Z
UID:10000101-1763202600-1763227800@aikido-deutschland.com
SUMMARY:Aikido-Lehrgang mit Ina Pinck\, 5. Dan
DESCRIPTION:
URL:https://aikido-deutschland.com/lehrgang/aikido-lehrgang-mit-ina-pinck-5-dan/
LOCATION:Ai-Ki-Dojo – Dojo für Budo- und Zen-Künste\, Bahnhofstraße 22 (Rückgebäude)\, Schrobenhausen\, 86529
ORGANIZER;CN="Ai-Ki-Dojo %E2%80%93 Verein f%C3%BCr Budo- und Zenk%C3%BCnste e.V.":MAILTO:ai-ki-dojo@web.de
END:VEVENT
END:VCALENDAR