BEGIN:VCALENDAR
VERSION:2.0
PRODID:-//BDAL - ECPv6.15.20//NONSGML v1.0//EN
CALSCALE:GREGORIAN
METHOD:PUBLISH
X-WR-CALNAME:BDAL
X-ORIGINAL-URL:https://aikido-deutschland.com
X-WR-CALDESC:Veranstaltungen für BDAL
REFRESH-INTERVAL;VALUE=DURATION:PT1H
X-Robots-Tag:noindex
X-PUBLISHED-TTL:PT1H
BEGIN:VTIMEZONE
TZID:Europe/Berlin
BEGIN:DAYLIGHT
TZOFFSETFROM:+0100
TZOFFSETTO:+0200
TZNAME:CEST
DTSTART:20240331T010000
END:DAYLIGHT
BEGIN:STANDARD
TZOFFSETFROM:+0200
TZOFFSETTO:+0100
TZNAME:CET
DTSTART:20241027T010000
END:STANDARD
BEGIN:DAYLIGHT
TZOFFSETFROM:+0100
TZOFFSETTO:+0200
TZNAME:CEST
DTSTART:20250330T010000
END:DAYLIGHT
BEGIN:STANDARD
TZOFFSETFROM:+0200
TZOFFSETTO:+0100
TZNAME:CET
DTSTART:20251026T010000
END:STANDARD
BEGIN:DAYLIGHT
TZOFFSETFROM:+0100
TZOFFSETTO:+0200
TZNAME:CEST
DTSTART:20260329T010000
END:DAYLIGHT
BEGIN:STANDARD
TZOFFSETFROM:+0200
TZOFFSETTO:+0100
TZNAME:CET
DTSTART:20261025T010000
END:STANDARD
END:VTIMEZONE
BEGIN:VEVENT
DTSTART;TZID=Europe/Berlin:20250712T100000
DTEND;TZID=Europe/Berlin:20250712T170000
DTSTAMP:20260422T042802
CREATED:20250414T164547Z
LAST-MODIFIED:20250414T165302Z
UID:10000066-1752314400-1752339600@aikido-deutschland.com
SUMMARY:Aikido-Seminar mit Jochen Knau\, 6. Dan
DESCRIPTION:
URL:https://aikido-deutschland.com/lehrgang/aikido-seminar-mit-jochen-knau-6-dan/
LOCATION:Schule für Bewegung und Meditation – Aikido\, Rheinstraße 45\, 2. Hof\, Aufgang 5\, 1. Etage\, Berlin\, 12161
ORGANIZER;CN="Zentrum f%C3%BCr Harmonische Bewegung ZfHB":MAILTO:jknau@zfhb.de
END:VEVENT
END:VCALENDAR