BEGIN:VCALENDAR
VERSION:2.0
PRODID:-//BDAL - ECPv6.15.20//NONSGML v1.0//EN
CALSCALE:GREGORIAN
METHOD:PUBLISH
X-WR-CALNAME:BDAL
X-ORIGINAL-URL:https://aikido-deutschland.com
X-WR-CALDESC:Veranstaltungen für BDAL
REFRESH-INTERVAL;VALUE=DURATION:PT1H
X-Robots-Tag:noindex
X-PUBLISHED-TTL:PT1H
BEGIN:VTIMEZONE
TZID:Europe/Berlin
BEGIN:DAYLIGHT
TZOFFSETFROM:+0100
TZOFFSETTO:+0200
TZNAME:CEST
DTSTART:20240331T010000
END:DAYLIGHT
BEGIN:STANDARD
TZOFFSETFROM:+0200
TZOFFSETTO:+0100
TZNAME:CET
DTSTART:20241027T010000
END:STANDARD
BEGIN:DAYLIGHT
TZOFFSETFROM:+0100
TZOFFSETTO:+0200
TZNAME:CEST
DTSTART:20250330T010000
END:DAYLIGHT
BEGIN:STANDARD
TZOFFSETFROM:+0200
TZOFFSETTO:+0100
TZNAME:CET
DTSTART:20251026T010000
END:STANDARD
BEGIN:DAYLIGHT
TZOFFSETFROM:+0100
TZOFFSETTO:+0200
TZNAME:CEST
DTSTART:20260329T010000
END:DAYLIGHT
BEGIN:STANDARD
TZOFFSETFROM:+0200
TZOFFSETTO:+0100
TZNAME:CET
DTSTART:20261025T010000
END:STANDARD
BEGIN:DAYLIGHT
TZOFFSETFROM:+0100
TZOFFSETTO:+0200
TZNAME:CEST
DTSTART:20270328T010000
END:DAYLIGHT
BEGIN:STANDARD
TZOFFSETFROM:+0200
TZOFFSETTO:+0100
TZNAME:CET
DTSTART:20271031T010000
END:STANDARD
END:VTIMEZONE
BEGIN:VEVENT
DTSTART;VALUE=DATE:20260221
DTEND;VALUE=DATE:20260223
DTSTAMP:20260422T001722
CREATED:20260121T155256Z
LAST-MODIFIED:20260121T155256Z
UID:10000135-1771632000-1771804799@aikido-deutschland.com
SUMMARY:Aikido-Seminar mit Ahmed Zich & Mark Mühlhaus
DESCRIPTION:
URL:https://aikido-deutschland.com/lehrgang/aikido-seminar-mit-ahmed-zich-mark-muehlhaus-2/
LOCATION:Ricarda-Huch-Schule\, Bonifatiusplatz 15\, Hannover\, 30161
ORGANIZER;CN="Kyushindo Aikido in Hannover":MAILTO:info@kyushindo.de
END:VEVENT
BEGIN:VEVENT
DTSTART;VALUE=DATE:20251108
DTEND;VALUE=DATE:20251110
DTSTAMP:20260422T001722
CREATED:20251008T210429Z
LAST-MODIFIED:20251008T210429Z
UID:10000099-1762560000-1762732799@aikido-deutschland.com
SUMMARY:Aikido-Seminar mit Ahmed Zich & Mark Mühlhaus
DESCRIPTION:
URL:https://aikido-deutschland.com/lehrgang/aikido-seminar-mit-ahmed-zich-mark-muehlhaus/
LOCATION:Ricarda-Huch-Schule\, Bonifatiusplatz 15\, Hannover\, 30161
ORGANIZER;CN="Kyushindo Aikido in Hannover":MAILTO:info@kyushindo.de
END:VEVENT
BEGIN:VEVENT
DTSTART;VALUE=DATE:20250621
DTEND;VALUE=DATE:20250623
DTSTAMP:20260422T001722
CREATED:20250528T134517Z
LAST-MODIFIED:20250528T134532Z
UID:10000077-1750464000-1750636799@aikido-deutschland.com
SUMMARY:Aikido Seminar mit Andreas Jürries\, Ahmed Zich und Mark Mühlhaus
DESCRIPTION:
URL:https://aikido-deutschland.com/lehrgang/aikido-seminar-mit-andreas-juerries-ahmed-zich-und-mark-muehlhaus/
LOCATION:Aikido Schule Linden\, Fössestraße 93B\, Hannover\, 30453
ORGANIZER;CN="Kyushindo Aikido in Hannover":MAILTO:info@kyushindo.de
END:VEVENT
END:VCALENDAR