BEGIN:VCALENDAR
VERSION:2.0
PRODID:-//BDAL - ECPv6.15.20//NONSGML v1.0//EN
CALSCALE:GREGORIAN
METHOD:PUBLISH
X-ORIGINAL-URL:https://aikido-deutschland.com
X-WR-CALDESC:Veranstaltungen für BDAL
REFRESH-INTERVAL;VALUE=DURATION:PT1H
X-Robots-Tag:noindex
X-PUBLISHED-TTL:PT1H
BEGIN:VTIMEZONE
TZID:Europe/Berlin
BEGIN:DAYLIGHT
TZOFFSETFROM:+0100
TZOFFSETTO:+0200
TZNAME:CEST
DTSTART:20240331T010000
END:DAYLIGHT
BEGIN:STANDARD
TZOFFSETFROM:+0200
TZOFFSETTO:+0100
TZNAME:CET
DTSTART:20241027T010000
END:STANDARD
BEGIN:DAYLIGHT
TZOFFSETFROM:+0100
TZOFFSETTO:+0200
TZNAME:CEST
DTSTART:20250330T010000
END:DAYLIGHT
BEGIN:STANDARD
TZOFFSETFROM:+0200
TZOFFSETTO:+0100
TZNAME:CET
DTSTART:20251026T010000
END:STANDARD
BEGIN:DAYLIGHT
TZOFFSETFROM:+0100
TZOFFSETTO:+0200
TZNAME:CEST
DTSTART:20260329T010000
END:DAYLIGHT
BEGIN:STANDARD
TZOFFSETFROM:+0200
TZOFFSETTO:+0100
TZNAME:CET
DTSTART:20261025T010000
END:STANDARD
END:VTIMEZONE
BEGIN:VEVENT
DTSTART;VALUE=DATE:20251108
DTEND;VALUE=DATE:20251110
DTSTAMP:20260422T010620
CREATED:20250721T143911Z
LAST-MODIFIED:20250721T143916Z
UID:10000086-1762560000-1762732799@aikido-deutschland.com
SUMMARY:Herbstlehrgang mit Gerhard Walter\, 8. Dan
DESCRIPTION:
URL:https://aikido-deutschland.com/lehrgang/herbstlehrgang-mit-gerhard-walter-8-dan/
LOCATION:Aikido-Zen Kassel e.V.\, Sickingenstraße 10\, Kassel\, 34117
ORGANIZER;CN="Aikido-Zen Kassel e.V.":MAILTO:info@aikido-kassel.de
END:VEVENT
BEGIN:VEVENT
DTSTART;VALUE=DATE:20250628
DTEND;VALUE=DATE:20250630
DTSTAMP:20260422T010620
CREATED:20250510T124930Z
LAST-MODIFIED:20250510T125208Z
UID:10000074-1751068800-1751241599@aikido-deutschland.com
SUMMARY:Aikido-Zen-Lehrgang mit Gerhard Walter\, 8. Dan
DESCRIPTION:
URL:https://aikido-deutschland.com/lehrgang/aikido-zen-lehrgang-mit-gerhard-walter-8-dan/
LOCATION:Aikido-Zen Kassel e.V.\, Sickingenstraße 10\, Kassel\, 34117
ORGANIZER;CN="Aikido-Zen Kassel e.V.":MAILTO:info@aikido-kassel.de
END:VEVENT
END:VCALENDAR