BEGIN:VCALENDAR
VERSION:2.0
PRODID:-//BDAL - ECPv6.15.20//NONSGML v1.0//EN
CALSCALE:GREGORIAN
METHOD:PUBLISH
X-WR-CALNAME:BDAL
X-ORIGINAL-URL:https://aikido-deutschland.com
X-WR-CALDESC:Veranstaltungen für BDAL
REFRESH-INTERVAL;VALUE=DURATION:PT1H
X-Robots-Tag:noindex
X-PUBLISHED-TTL:PT1H
BEGIN:VTIMEZONE
TZID:Europe/Berlin
BEGIN:DAYLIGHT
TZOFFSETFROM:+0100
TZOFFSETTO:+0200
TZNAME:CEST
DTSTART:20230326T010000
END:DAYLIGHT
BEGIN:STANDARD
TZOFFSETFROM:+0200
TZOFFSETTO:+0100
TZNAME:CET
DTSTART:20231029T010000
END:STANDARD
BEGIN:DAYLIGHT
TZOFFSETFROM:+0100
TZOFFSETTO:+0200
TZNAME:CEST
DTSTART:20240331T010000
END:DAYLIGHT
BEGIN:STANDARD
TZOFFSETFROM:+0200
TZOFFSETTO:+0100
TZNAME:CET
DTSTART:20241027T010000
END:STANDARD
BEGIN:DAYLIGHT
TZOFFSETFROM:+0100
TZOFFSETTO:+0200
TZNAME:CEST
DTSTART:20250330T010000
END:DAYLIGHT
BEGIN:STANDARD
TZOFFSETFROM:+0200
TZOFFSETTO:+0100
TZNAME:CET
DTSTART:20251026T010000
END:STANDARD
BEGIN:DAYLIGHT
TZOFFSETFROM:+0100
TZOFFSETTO:+0200
TZNAME:CEST
DTSTART:20260329T010000
END:DAYLIGHT
BEGIN:STANDARD
TZOFFSETFROM:+0200
TZOFFSETTO:+0100
TZNAME:CET
DTSTART:20261025T010000
END:STANDARD
END:VTIMEZONE
BEGIN:VEVENT
DTSTART;VALUE=DATE:20251226
DTEND;VALUE=DATE:20251229
DTSTAMP:20260421T174813
CREATED:20250317T180911Z
LAST-MODIFIED:20250317T180911Z
UID:10000062-1766707200-1766966399@aikido-deutschland.com
SUMMARY:Winterlehrgang mit Heinz Patt\, 8. Dan
DESCRIPTION:
URL:https://aikido-deutschland.com/lehrgang/winterlehrgang-mit-heinz-patt-8-dan/
LOCATION:Aikido Bonn – Aikido-Schule Heinz Patt\, Buschdorfer Straße 26\, Bonn\, 53117
ORGANIZER;CN="Aikido Bonn %E2%80%93 Aikido-Schule Heinz Patt":MAILTO:info@aikido-bonn.de
END:VEVENT
BEGIN:VEVENT
DTSTART;TZID=Europe/Berlin:20250906T113000
DTEND;TZID=Europe/Berlin:20250906T180000
DTSTAMP:20260421T174813
CREATED:20250418T150055Z
LAST-MODIFIED:20250418T150055Z
UID:10000070-1757158200-1757181600@aikido-deutschland.com
SUMMARY:Samstagslehrgang mit Rüdiger Keller\, 8. Dan
DESCRIPTION:
URL:https://aikido-deutschland.com/lehrgang/samstagslehrgang-mit-ruediger-keller-8-dan/
LOCATION:Aikido Bonn – Aikido-Schule Heinz Patt\, Buschdorfer Straße 26\, Bonn\, 53117
ORGANIZER;CN="Aikido Bonn %E2%80%93 Aikido-Schule Heinz Patt":MAILTO:info@aikido-bonn.de
END:VEVENT
BEGIN:VEVENT
DTSTART;VALUE=DATE:20250606
DTEND;VALUE=DATE:20250611
DTSTAMP:20260421T174813
CREATED:20241030T200931Z
LAST-MODIFIED:20250307T231029Z
UID:10000008-1749175200-1749520799@aikido-deutschland.com
SUMMARY:Pfingstlehrgang 2025 mit Malcolm Tiki Shewan\, 7. Dan
DESCRIPTION:
URL:https://aikido-deutschland.com/lehrgang/pfingstlehrgang-2025-mit-malcolm-tiki-shewan-7-dan/
LOCATION:Aikido Bonn – Aikido-Schule Heinz Patt\, Buschdorfer Straße 26\, Bonn\, 53117
ORGANIZER;CN="Aikido Bonn %E2%80%93 Aikido-Schule Heinz Patt":MAILTO:info@aikido-bonn.de
END:VEVENT
BEGIN:VEVENT
DTSTART;VALUE=DATE:20250606
DTEND;VALUE=DATE:20250610
DTSTAMP:20260421T174813
CREATED:20250418T145633Z
LAST-MODIFIED:20250418T150347Z
UID:10000069-1749168000-1749513599@aikido-deutschland.com
SUMMARY:Pfingstlehrgang mit Malcolm Tiki Shewan\, 7. Dan
DESCRIPTION:
URL:https://aikido-deutschland.com/lehrgang/pfingstlehrgang-mit-malcolm-tiki-shewan-7-dan/
LOCATION:Aikido Bonn – Aikido-Schule Heinz Patt\, Buschdorfer Straße 26\, Bonn\, 53117
ORGANIZER;CN="Aikido Bonn %E2%80%93 Aikido-Schule Heinz Patt":MAILTO:info@aikido-bonn.de
END:VEVENT
BEGIN:VEVENT
DTSTART;VALUE=DATE:20241226
DTEND;VALUE=DATE:20241230
DTSTAMP:20260421T174813
CREATED:20241030T194158Z
LAST-MODIFIED:20250309T134041Z
UID:10000007-1735174800-1735433999@aikido-deutschland.com
SUMMARY:Winterlehrgang 2024 mit Heinz Patt\, 8. Dan
DESCRIPTION:
URL:https://aikido-deutschland.com/lehrgang/winterlehrgang-2024-mit-heinz-patt-8-dan/
LOCATION:Aikido Bonn – Aikido-Schule Heinz Patt\, Buschdorfer Straße 26\, Bonn\, 53117
ORGANIZER;CN="Aikido Bonn %E2%80%93 Aikido-Schule Heinz Patt":MAILTO:info@aikido-bonn.de
END:VEVENT
BEGIN:VEVENT
DTSTART;TZID=Europe/Berlin:20240907T100000
DTEND;TZID=Europe/Berlin:20240907T190000
DTSTAMP:20260421T174813
CREATED:20241103T194944Z
LAST-MODIFIED:20241209T002326Z
UID:10000011-1725703200-1725735600@aikido-deutschland.com
SUMMARY:Lehrgang in Bonn mit Rüdiger Keller\, 8. Dan
DESCRIPTION:» Ausschreibung (PDF)
URL:https://aikido-deutschland.com/lehrgang/lehrgang-in-bonn-mit-ruediger-keller-8-dan/
LOCATION:Aikido Bonn – Aikido-Schule Heinz Patt\, Buschdorfer Straße 26\, Bonn\, 53117
ORGANIZER;CN="Aikido Bonn %E2%80%93 Aikido-Schule Heinz Patt":MAILTO:info@aikido-bonn.de
END:VEVENT
END:VCALENDAR