BEGIN:VCALENDAR
VERSION:2.0
PRODID:-//BDAL - ECPv6.15.20//NONSGML v1.0//EN
CALSCALE:GREGORIAN
METHOD:PUBLISH
X-ORIGINAL-URL:https://aikido-deutschland.com
X-WR-CALDESC:Veranstaltungen für BDAL
REFRESH-INTERVAL;VALUE=DURATION:PT1H
X-Robots-Tag:noindex
X-PUBLISHED-TTL:PT1H
BEGIN:VTIMEZONE
TZID:Europe/Berlin
BEGIN:DAYLIGHT
TZOFFSETFROM:+0100
TZOFFSETTO:+0200
TZNAME:CEST
DTSTART:20240331T010000
END:DAYLIGHT
BEGIN:STANDARD
TZOFFSETFROM:+0200
TZOFFSETTO:+0100
TZNAME:CET
DTSTART:20241027T010000
END:STANDARD
BEGIN:DAYLIGHT
TZOFFSETFROM:+0100
TZOFFSETTO:+0200
TZNAME:CEST
DTSTART:20250330T010000
END:DAYLIGHT
BEGIN:STANDARD
TZOFFSETFROM:+0200
TZOFFSETTO:+0100
TZNAME:CET
DTSTART:20251026T010000
END:STANDARD
BEGIN:DAYLIGHT
TZOFFSETFROM:+0100
TZOFFSETTO:+0200
TZNAME:CEST
DTSTART:20260329T010000
END:DAYLIGHT
BEGIN:STANDARD
TZOFFSETFROM:+0200
TZOFFSETTO:+0100
TZNAME:CET
DTSTART:20261025T010000
END:STANDARD
END:VTIMEZONE
BEGIN:VEVENT
DTSTART;TZID=Europe/Berlin:20251019T110000
DTEND;TZID=Europe/Berlin:20251019T170000
DTSTAMP:20260421T234924
CREATED:20250208T221044Z
LAST-MODIFIED:20250307T231948Z
UID:10000029-1760871600-1760893200@aikido-deutschland.com
SUMMARY:Aikido-Lehrgang mit Dirk Müller\, 7. Dan
DESCRIPTION:
URL:https://aikido-deutschland.com/lehrgang/aikido-lehrgang-mit-dirk-mueller-7-dan-2/
LOCATION:Aikido Osnabrück\, Liebigstraße 25\, Osnabrück\, 49074
ORGANIZER;CN="Aikido Osnabr%C3%BCck":MAILTO:dojo@aikido-os.de
END:VEVENT
BEGIN:VEVENT
DTSTART;TZID=Europe/Berlin:20250907T200000
DTEND;TZID=Europe/Berlin:20250907T223000
DTSTAMP:20260421T234924
CREATED:20250709T210008Z
LAST-MODIFIED:20250709T210029Z
UID:10000084-1757275200-1757284200@aikido-deutschland.com
SUMMARY:Zen-Vortrag mit Muho aus Osaka in Osnabrück
DESCRIPTION:„An Dich\, der meint durch Zen etwas zu erreichen“
URL:https://aikido-deutschland.com/lehrgang/zen-vortrag-mit-muho-aus-osaka-in-osnabrueck/
LOCATION:Aikido Osnabrück\, Liebigstraße 25\, Osnabrück\, 49074
ORGANIZER;CN="Aikido Osnabr%C3%BCck":MAILTO:dojo@aikido-os.de
END:VEVENT
BEGIN:VEVENT
DTSTART;TZID=Europe/Berlin:20250830T100000
DTEND;TZID=Europe/Berlin:20250830T140000
DTSTAMP:20260421T234924
CREATED:20250721T143645Z
LAST-MODIFIED:20250721T143656Z
UID:10000085-1756548000-1756562400@aikido-deutschland.com
SUMMARY:Fazien-Workshop für Kampfkünstler mit Udo Butschinek
DESCRIPTION:
URL:https://aikido-deutschland.com/lehrgang/fazien-workshop-fuer-kampfkuenstler-mit-udo-butschinek/
LOCATION:Aikido Osnabrück\, Liebigstraße 25\, Osnabrück\, 49074
ORGANIZER;CN="Aikido Osnabr%C3%BCck":MAILTO:dojo@aikido-os.de
END:VEVENT
BEGIN:VEVENT
DTSTART;VALUE=DATE:20250529
DTEND;VALUE=DATE:20250602
DTSTAMP:20260421T234924
CREATED:20250208T215902Z
LAST-MODIFIED:20250307T230909Z
UID:10000027-1748476800-1748822399@aikido-deutschland.com
SUMMARY:Aikido-Wochenende Himmelfahrt 2025 mit Klaus Meyer (7. Dan)\, Martin Moers (5. Dan) u.a.
DESCRIPTION:
URL:https://aikido-deutschland.com/lehrgang/aikido-wochenende-himmelfahrt-2025-mit-karl-heinz-fuss-5-dan-prof-dr-martin-moers-5-dan-klaus-meyer-7-dan/
LOCATION:Aikido Osnabrück\, Liebigstraße 25\, Osnabrück\, 49074
ORGANIZER;CN="Aikido Osnabr%C3%BCck":MAILTO:dojo@aikido-os.de
END:VEVENT
BEGIN:VEVENT
DTSTART;TZID=Europe/Berlin:20250427T110000
DTEND;TZID=Europe/Berlin:20250427T170000
DTSTAMP:20260421T234924
CREATED:20250208T220653Z
LAST-MODIFIED:20250307T230449Z
UID:10000028-1745751600-1745773200@aikido-deutschland.com
SUMMARY:Aikido-Lehrgang mit Dirk Müller\, 7. Dan
DESCRIPTION:
URL:https://aikido-deutschland.com/lehrgang/aikido-lehrgang-mit-dirk-mueller-7-dan/
LOCATION:Aikido Osnabrück\, Liebigstraße 25\, Osnabrück\, 49074
ORGANIZER;CN="Aikido Osnabr%C3%BCck":MAILTO:dojo@aikido-os.de
END:VEVENT
END:VCALENDAR