BEGIN:VCALENDAR
VERSION:2.0
PRODID:-//BDAL - ECPv6.15.20//NONSGML v1.0//EN
CALSCALE:GREGORIAN
METHOD:PUBLISH
X-WR-CALNAME:BDAL
X-ORIGINAL-URL:https://aikido-deutschland.com
X-WR-CALDESC:Veranstaltungen für BDAL
REFRESH-INTERVAL;VALUE=DURATION:PT1H
X-Robots-Tag:noindex
X-PUBLISHED-TTL:PT1H
BEGIN:VTIMEZONE
TZID:Europe/Berlin
BEGIN:DAYLIGHT
TZOFFSETFROM:+0100
TZOFFSETTO:+0200
TZNAME:CEST
DTSTART:20240331T010000
END:DAYLIGHT
BEGIN:STANDARD
TZOFFSETFROM:+0200
TZOFFSETTO:+0100
TZNAME:CET
DTSTART:20241027T010000
END:STANDARD
BEGIN:DAYLIGHT
TZOFFSETFROM:+0100
TZOFFSETTO:+0200
TZNAME:CEST
DTSTART:20250330T010000
END:DAYLIGHT
BEGIN:STANDARD
TZOFFSETFROM:+0200
TZOFFSETTO:+0100
TZNAME:CET
DTSTART:20251026T010000
END:STANDARD
BEGIN:DAYLIGHT
TZOFFSETFROM:+0100
TZOFFSETTO:+0200
TZNAME:CEST
DTSTART:20260329T010000
END:DAYLIGHT
BEGIN:STANDARD
TZOFFSETFROM:+0200
TZOFFSETTO:+0100
TZNAME:CET
DTSTART:20261025T010000
END:STANDARD
END:VTIMEZONE
BEGIN:VEVENT
DTSTART;VALUE=DATE:20250628
DTEND;VALUE=DATE:20250630
DTSTAMP:20260422T001143
CREATED:20250514T140915Z
LAST-MODIFIED:20250514T140915Z
UID:10000076-1751068800-1751241599@aikido-deutschland.com
SUMMARY:„Aikido trifft Tango – Spielarten des Lebendigen“ mit Doris Dohse\, 6. Dan
DESCRIPTION:
URL:https://aikido-deutschland.com/lehrgang/aikido-trifft-tango-spielarten-des-lebendigen-mit-doris-dohse-6-dan/
LOCATION:Gemeindehaus Oberhausen\, Schulstraße 1\, Mehrzwecksaal 2. OG\, Oberhausen\, 82386
ORGANIZER;CN="Aikido im Oberland e.V.":MAILTO:info@aikido-im-oberland.de
END:VEVENT
END:VCALENDAR