BEGIN:VCALENDAR
VERSION:2.0
PRODID:-//BDAL - ECPv6.15.20//NONSGML v1.0//EN
CALSCALE:GREGORIAN
METHOD:PUBLISH
X-ORIGINAL-URL:https://aikido-deutschland.com
X-WR-CALDESC:Veranstaltungen für BDAL
REFRESH-INTERVAL;VALUE=DURATION:PT1H
X-Robots-Tag:noindex
X-PUBLISHED-TTL:PT1H
BEGIN:VTIMEZONE
TZID:Europe/Berlin
BEGIN:DAYLIGHT
TZOFFSETFROM:+0100
TZOFFSETTO:+0200
TZNAME:CEST
DTSTART:20240331T010000
END:DAYLIGHT
BEGIN:STANDARD
TZOFFSETFROM:+0200
TZOFFSETTO:+0100
TZNAME:CET
DTSTART:20241027T010000
END:STANDARD
BEGIN:DAYLIGHT
TZOFFSETFROM:+0100
TZOFFSETTO:+0200
TZNAME:CEST
DTSTART:20250330T010000
END:DAYLIGHT
BEGIN:STANDARD
TZOFFSETFROM:+0200
TZOFFSETTO:+0100
TZNAME:CET
DTSTART:20251026T010000
END:STANDARD
BEGIN:DAYLIGHT
TZOFFSETFROM:+0100
TZOFFSETTO:+0200
TZNAME:CEST
DTSTART:20260329T010000
END:DAYLIGHT
BEGIN:STANDARD
TZOFFSETFROM:+0200
TZOFFSETTO:+0100
TZNAME:CET
DTSTART:20261025T010000
END:STANDARD
END:VTIMEZONE
BEGIN:VEVENT
DTSTART;TZID=Europe/Berlin:20251206T150000
DTEND;TZID=Europe/Berlin:20251206T170000
DTSTAMP:20260421T190400
CREATED:20250905T230051Z
LAST-MODIFIED:20250905T230051Z
UID:10000094-1765033200-1765040400@aikido-deutschland.com
SUMMARY:Ken-Tai-Jo-Lehrgang mit Bernd Hardekopf\, 6. Dan
DESCRIPTION:
URL:https://aikido-deutschland.com/lehrgang/ken-tai-jo-lehrgang-mit-bernd-hardekopf-6-dan/
LOCATION:Aikido-Schule Bergisch Gladbach\, Hauptstraße 102 (im Innenhof)\, Bergisch Glabach\, 51465\, Germany
ORGANIZER;CN="Aikido-Schule Bergisch Gladbach":MAILTO:info@aikido-bergischgladbach.de
END:VEVENT
BEGIN:VEVENT
DTSTART;TZID=Europe/Berlin:20251108T150000
DTEND;TZID=Europe/Berlin:20251108T180000
DTSTAMP:20260421T190400
CREATED:20250905T225625Z
LAST-MODIFIED:20250905T225647Z
UID:10000093-1762614000-1762624800@aikido-deutschland.com
SUMMARY:Aikido-Lehrgang mit Dieter Löpke\, 7. Dan
DESCRIPTION:
URL:https://aikido-deutschland.com/lehrgang/aikido-lehrgang-mit-dieter-loepke-7-dan/
LOCATION:Aikido-Schule Bergisch Gladbach\, Hauptstraße 102 (im Innenhof)\, Bergisch Glabach\, 51465\, Germany
ORGANIZER;CN="Aikido-Schule Bergisch Gladbach":MAILTO:info@aikido-bergischgladbach.de
END:VEVENT
BEGIN:VEVENT
DTSTART;TZID=Europe/Berlin:20251011T140000
DTEND;TZID=Europe/Berlin:20251011T183000
DTSTAMP:20260421T190400
CREATED:20250905T225329Z
LAST-MODIFIED:20250905T225329Z
UID:10000092-1760191200-1760207400@aikido-deutschland.com
SUMMARY:Aikido-Lehrgang zu den Dan-Techniken
DESCRIPTION:
URL:https://aikido-deutschland.com/lehrgang/aikido-lehrgang-zu-den-dan-techniken/
LOCATION:Aikido-Schule Bergisch Gladbach\, Hauptstraße 102 (im Innenhof)\, Bergisch Glabach\, 51465\, Germany
ORGANIZER;CN="Aikido-Schule Bergisch Gladbach":MAILTO:info@aikido-bergischgladbach.de
END:VEVENT
BEGIN:VEVENT
DTSTART;TZID=Europe/Berlin:20250913T140000
DTEND;TZID=Europe/Berlin:20250913T183000
DTSTAMP:20260421T190400
CREATED:20250905T223905Z
LAST-MODIFIED:20250905T223945Z
UID:10000091-1757772000-1757788200@aikido-deutschland.com
SUMMARY:Aikido-Lehrgang mit Bernd Hardekopf\, 6. Dan
DESCRIPTION:Die Techniken des 5.\, 4.\, 3.\, 2. und 1. Kyu
URL:https://aikido-deutschland.com/lehrgang/aikido-lehrgang-mit-bernd-hardkopf/
LOCATION:Aikido-Schule Bergisch Gladbach\, Hauptstraße 102 (im Innenhof)\, Bergisch Glabach\, 51465\, Germany
ORGANIZER;CN="Aikido-Schule Bergisch Gladbach":MAILTO:info@aikido-bergischgladbach.de
END:VEVENT
BEGIN:VEVENT
DTSTART;TZID=Europe/Berlin:20250628T150000
DTEND;TZID=Europe/Berlin:20250628T170000
DTSTAMP:20260421T190400
CREATED:20250208T214636Z
LAST-MODIFIED:20250307T231409Z
UID:10000026-1751122800-1751130000@aikido-deutschland.com
SUMMARY:Schwertlehrgang (Bokken) mit Bernd Hardekopf\, 6. Dan
DESCRIPTION:
URL:https://aikido-deutschland.com/lehrgang/schwertlehrgang-mit-bernd-hardekopf-6-dan/
LOCATION:Aikido-Schule Bergisch Gladbach\, Hauptstraße 102 (im Innenhof)\, Bergisch Glabach\, 51465\, Germany
ORGANIZER;CN="Aikido-Schule Bergisch Gladbach":MAILTO:info@aikido-bergischgladbach.de
END:VEVENT
BEGIN:VEVENT
DTSTART;TZID=Europe/Berlin:20250510T150000
DTEND;TZID=Europe/Berlin:20250510T170000
DTSTAMP:20260421T190400
CREATED:20250208T213819Z
LAST-MODIFIED:20250307T230621Z
UID:10000025-1746889200-1746896400@aikido-deutschland.com
SUMMARY:Stocklehrgang (Jo) mit Bernd Hardekopf\, 6. Dan
DESCRIPTION:
URL:https://aikido-deutschland.com/lehrgang/stocklehrgang-mit-bernd-hardekopf-6-dan/
LOCATION:Aikido-Schule Bergisch Gladbach\, Hauptstraße 102 (im Innenhof)\, Bergisch Glabach\, 51465\, Germany
ORGANIZER;CN="Aikido-Schule Bergisch Gladbach":MAILTO:info@aikido-bergischgladbach.de
END:VEVENT
BEGIN:VEVENT
DTSTART;TZID=Europe/Berlin:20250322T150000
DTEND;TZID=Europe/Berlin:20250322T173000
DTSTAMP:20260421T190400
CREATED:20250208T212922Z
LAST-MODIFIED:20250307T225840Z
UID:10000024-1742655600-1742664600@aikido-deutschland.com
SUMMARY:Aikido-Lehrgang für Fortgeschrittene aus dem Dan-Bereich
DESCRIPTION:
URL:https://aikido-deutschland.com/lehrgang/aikido-lehrgang-fuer-fortgeschrittene-aus-dem-dan-bereich/
LOCATION:Aikido-Schule Bergisch Gladbach\, Hauptstraße 102 (im Innenhof)\, Bergisch Glabach\, 51465\, Germany
ORGANIZER;CN="Aikido-Schule Bergisch Gladbach":MAILTO:info@aikido-bergischgladbach.de
END:VEVENT
END:VCALENDAR