BEGIN:VCALENDAR
VERSION:2.0
PRODID:-//BDAL - ECPv6.15.20//NONSGML v1.0//EN
CALSCALE:GREGORIAN
METHOD:PUBLISH
X-ORIGINAL-URL:https://aikido-deutschland.com
X-WR-CALDESC:Veranstaltungen für BDAL
REFRESH-INTERVAL;VALUE=DURATION:PT1H
X-Robots-Tag:noindex
X-PUBLISHED-TTL:PT1H
BEGIN:VTIMEZONE
TZID:Europe/Berlin
BEGIN:DAYLIGHT
TZOFFSETFROM:+0100
TZOFFSETTO:+0200
TZNAME:CEST
DTSTART:20240331T010000
END:DAYLIGHT
BEGIN:STANDARD
TZOFFSETFROM:+0200
TZOFFSETTO:+0100
TZNAME:CET
DTSTART:20241027T010000
END:STANDARD
BEGIN:DAYLIGHT
TZOFFSETFROM:+0100
TZOFFSETTO:+0200
TZNAME:CEST
DTSTART:20250330T010000
END:DAYLIGHT
BEGIN:STANDARD
TZOFFSETFROM:+0200
TZOFFSETTO:+0100
TZNAME:CET
DTSTART:20251026T010000
END:STANDARD
BEGIN:DAYLIGHT
TZOFFSETFROM:+0100
TZOFFSETTO:+0200
TZNAME:CEST
DTSTART:20260329T010000
END:DAYLIGHT
BEGIN:STANDARD
TZOFFSETFROM:+0200
TZOFFSETTO:+0100
TZNAME:CET
DTSTART:20261025T010000
END:STANDARD
END:VTIMEZONE
BEGIN:VEVENT
DTSTART;TZID=Europe/Berlin:20250531T133000
DTEND;TZID=Europe/Berlin:20250531T183000
DTSTAMP:20260421T235021
CREATED:20250422T194957Z
LAST-MODIFIED:20250422T195946Z
UID:10000072-1748698200-1748716200@aikido-deutschland.com
SUMMARY:Aikido-Lehrgang mit Rudi Schneider\, 7. Dan in Windischeschenbach
DESCRIPTION:
URL:https://aikido-deutschland.com/lehrgang/aikido-lehrgang-mit-rudi-schneider-7-dan-in-windischeschenbach/
LOCATION:Aikido-Abteilung des ATSV Windischeschenbach\, Turnhalle im Kindergarten Hl. Geist\, Schulplatz 6\, Windischeschenbach-Neuhaus\, 92670
ORGANIZER;CN="Aikido-Abteilung des ATSV Windischeschenbach":MAILTO:karl@aikido-windischeschenbach.de
END:VEVENT
END:VCALENDAR