BEGIN:VCALENDAR
VERSION:2.0
PRODID:-//BDAL - ECPv6.15.20//NONSGML v1.0//EN
CALSCALE:GREGORIAN
METHOD:PUBLISH
X-ORIGINAL-URL:https://aikido-deutschland.com
X-WR-CALDESC:Veranstaltungen für BDAL
REFRESH-INTERVAL;VALUE=DURATION:PT1H
X-Robots-Tag:noindex
X-PUBLISHED-TTL:PT1H
BEGIN:VTIMEZONE
TZID:Europe/Berlin
BEGIN:DAYLIGHT
TZOFFSETFROM:+0100
TZOFFSETTO:+0200
TZNAME:CEST
DTSTART:20240331T010000
END:DAYLIGHT
BEGIN:STANDARD
TZOFFSETFROM:+0200
TZOFFSETTO:+0100
TZNAME:CET
DTSTART:20241027T010000
END:STANDARD
BEGIN:DAYLIGHT
TZOFFSETFROM:+0100
TZOFFSETTO:+0200
TZNAME:CEST
DTSTART:20250330T010000
END:DAYLIGHT
BEGIN:STANDARD
TZOFFSETFROM:+0200
TZOFFSETTO:+0100
TZNAME:CET
DTSTART:20251026T010000
END:STANDARD
BEGIN:DAYLIGHT
TZOFFSETFROM:+0100
TZOFFSETTO:+0200
TZNAME:CEST
DTSTART:20260329T010000
END:DAYLIGHT
BEGIN:STANDARD
TZOFFSETFROM:+0200
TZOFFSETTO:+0100
TZNAME:CET
DTSTART:20261025T010000
END:STANDARD
END:VTIMEZONE
BEGIN:VEVENT
DTSTART;TZID=Europe/Berlin:20251221T110000
DTEND;TZID=Europe/Berlin:20251221T130000
DTSTAMP:20260421T234026
CREATED:20251206T143419Z
LAST-MODIFIED:20251208T224518Z
UID:10000105-1766314800-1766322000@aikido-deutschland.com
SUMMARY:Aikido Christmas Course and Dan Grading with Martin Mathieu\, 4. Dan
DESCRIPTION:
URL:https://aikido-deutschland.com/lehrgang/aikido-christmas-course-and-dan-grading-with-martin-mathieu-4-dan/
LOCATION:Down Leisure Centre Downpatrick\, 114 Market Street\, BT30 6LZ Downpatrick\, Northern Ireland
ORGANIZER;CN="Aiki Dojo Downpatrick":MAILTO:add@martinmathieu.net
END:VEVENT
BEGIN:VEVENT
DTSTART;VALUE=DATE:20251004
DTEND;VALUE=DATE:20251006
DTSTAMP:20260421T234026
CREATED:20250915T125933Z
LAST-MODIFIED:20250915T130403Z
UID:10000095-1759536000-1759708799@aikido-deutschland.com
SUMMARY:International 20-Year Anniversary Aikido Course
DESCRIPTION:with Gilles de Chénerilles\, 8th Dan
URL:https://aikido-deutschland.com/lehrgang/international-20-year-anniversary-aikido-course-with-gilles-de-chenerilles-8th-dan/
LOCATION:Down Leisure Centre Downpatrick\, 114 Market Street\, BT30 6LZ Downpatrick\, Northern Ireland
ORGANIZER;CN="Aiki Dojo Downpatrick":MAILTO:add@martinmathieu.net
END:VEVENT
BEGIN:VEVENT
DTSTART;TZID=Europe/Berlin:20250615T100000
DTEND;TZID=Europe/Berlin:20250615T100000
DTSTAMP:20260421T234026
CREATED:20250514T134450Z
LAST-MODIFIED:20250514T135207Z
UID:10000075-1749981600-1749981600@aikido-deutschland.com
SUMMARY:„The Essence of Aikido“ – Lehrgang mit Prof. Dr. Martin Mathieu\, 4. Dan
DESCRIPTION:
URL:https://aikido-deutschland.com/lehrgang/the-essence-of-aikido-lehrgang-mit-prof-dr-martin-mathieu-4-dan/
LOCATION:Down Leisure Centre Downpatrick\, 114 Market Street\, BT30 6LZ Downpatrick\, Northern Ireland
ORGANIZER;CN="Aiki Dojo Downpatrick":MAILTO:add@martinmathieu.net
END:VEVENT
END:VCALENDAR